BEGIN:VCALENDAR
VERSION:2.0
PRODID:-//pretix//GNU_Radio_tickets//
BEGIN:VEVENT
UID:pretix-gnuradio-grcon21-0@tickets.gnuradio.org
DTSTART;VALUE=DATE:20210920
DTEND;VALUE=DATE:20210925
DESCRIPTION:Tickets: https://tickets.gnuradio.org/grcon21/\nOrganizer: GNU 
 Radio Project
DTSTAMP:20260420T044452Z
LOCATION:[In-person] Charlotte\, North Carolina  +  [Virtual]
SUMMARY:GNU Radio Conference 2021
END:VEVENT
END:VCALENDAR
