BEGIN:VCALENDAR
VERSION:2.0
PRODID:-//pretix//GNU_Radio_tickets//
BEGIN:VEVENT
UID:pretix-gnuradio-grcon20-0@tickets.gnuradio.org
DTSTART;VALUE=DATE:20200914
DTEND;VALUE=DATE:20200919
DESCRIPTION:Tickets: https://tickets.gnuradio.org/grcon20/\nOrganizer: GNU 
 Radio Project
DTSTAMP:20260422T175513Z
LOCATION:Virtual
SUMMARY:Virtual GNU Radio Conference 2020
END:VEVENT
END:VCALENDAR
